BEGIN:VCALENDAR
VERSION:2.0
PRODID:-//Port Houston - ECPv6.15.20//NONSGML v1.0//EN
CALSCALE:GREGORIAN
METHOD:PUBLISH
X-WR-CALNAME:Port Houston
X-ORIGINAL-URL:https://porthouston.com
X-WR-CALDESC:Events for Port Houston
REFRESH-INTERVAL;VALUE=DURATION:PT1H
X-Robots-Tag:noindex
X-PUBLISHED-TTL:PT1H
BEGIN:VTIMEZONE
TZID:America/Chicago
BEGIN:DAYLIGHT
TZOFFSETFROM:-0600
TZOFFSETTO:-0500
TZNAME:CDT
DTSTART:20250309T080000
END:DAYLIGHT
BEGIN:STANDARD
TZOFFSETFROM:-0500
TZOFFSETTO:-0600
TZNAME:CST
DTSTART:20251102T070000
END:STANDARD
BEGIN:DAYLIGHT
TZOFFSETFROM:-0600
TZOFFSETTO:-0500
TZNAME:CDT
DTSTART:20260308T080000
END:DAYLIGHT
BEGIN:STANDARD
TZOFFSETFROM:-0500
TZOFFSETTO:-0600
TZNAME:CST
DTSTART:20261101T070000
END:STANDARD
BEGIN:DAYLIGHT
TZOFFSETFROM:-0600
TZOFFSETTO:-0500
TZNAME:CDT
DTSTART:20270314T080000
END:DAYLIGHT
BEGIN:STANDARD
TZOFFSETFROM:-0500
TZOFFSETTO:-0600
TZNAME:CST
DTSTART:20271107T070000
END:STANDARD
END:VTIMEZONE
BEGIN:VEVENT
DTSTART;TZID=America/Chicago:20260326T080000
DTEND;TZID=America/Chicago:20260528T170000
DTSTAMP:20260423T014422
CREATED:20260211T222744Z
LAST-MODIFIED:20260211T222744Z
UID:12417-1774512000-1779987600@porthouston.com
SUMMARY:Opportunity U Program - Cohort 9 Begins
DESCRIPTION:Opportunity U is a comprehensive training program designed to support and assist local SBE vendors. This initiative helps position these businesses to better compete for and participate in Port Houston procurements\, potentially grow to become preferred contractors\, and leverage other opportunities outside of Port Houston. \nTo learn more about the program and apply\, click here: https://porthouston.com/business/strategic-sourcing/opportunity-u-training-events/
URL:https://porthouston.com/event/opportunity-u-program-cohort-9-begins/
END:VEVENT
END:VCALENDAR